BEGIN:VCALENDAR
VERSION:2.0
PRODID:-//Isla Bank House - ECPv6.15.20//NONSGML v1.0//EN
CALSCALE:GREGORIAN
METHOD:PUBLISH
X-WR-CALNAME:Isla Bank House
X-ORIGINAL-URL:https://islabankhouse.com
X-WR-CALDESC:Events for Isla Bank House
REFRESH-INTERVAL;VALUE=DURATION:PT1H
X-Robots-Tag:noindex
X-PUBLISHED-TTL:PT1H
BEGIN:VTIMEZONE
TZID:UTC
BEGIN:STANDARD
TZOFFSETFROM:+0000
TZOFFSETTO:+0000
TZNAME:UTC
DTSTART:20220101T000000
END:STANDARD
END:VTIMEZONE
BEGIN:VEVENT
DTSTART;TZID=UTC:20240615T100000
DTEND;TZID=UTC:20240615T170000
DTSTAMP:20260419T152443
CREATED:20240402T133124Z
LAST-MODIFIED:20240402T133136Z
UID:1301-1718445600-1718470800@islabankhouse.com
SUMMARY:Hopeman Fossil Dunes and Trackways Tour
DESCRIPTION:An opportunity to examine features of the late Permian Hopeman Sandstone Formation\, including fossilised dunes and animal trackways\, with local geologist Dave Longstaff. \nDuring this full-day event with Elgin Museum\, you’ll examine the features of the late Permian Hopeman Sandstone Formation. \nStarting at the beach huts\, we will see relicts of aeolian barchan and possible star dunes before examining a stretch of coastline that shows small faults\, a range of soft sediment deformation features\, fluvial and lacustrine sandstones\, abandoned millstones and quarries\, trace fossils and other sedimentary features. \nAfter lunch in Cove Bay (NJ 1594 7011) around low tide of 13:33\, we will look at a well-studied fault zone and post-glacial caves. We will then go to Clashach Quarry to examine fossilised reptile footprints and glacial features before descending to the coast via a short path to visit an old sandstone quarry (1781)\, the old Clashach port\, Jock Muldoon’s Cave and see some beautifully displayed sandstone cross-bedding and relicts of quarrying. \nWhen the excursion finishes\, we will return to the beach huts via the coastal path; the expected time back at cars is 16:00-16:30.
URL:https://islabankhouse.com/event/hopeman-fossil-dunes-and-trackways-tour
CATEGORIES:Nature & Environment,Science
END:VEVENT
BEGIN:VEVENT
DTSTART;TZID=UTC:20240614T130000
DTEND;TZID=UTC:20240614T160000
DTSTAMP:20260419T152443
CREATED:20240402T132639Z
LAST-MODIFIED:20240402T132639Z
UID:1296-1718370000-1718380800@islabankhouse.com
SUMMARY:Deep Time Walk - Roseisle Forrest
DESCRIPTION:Join naturalist Dan Puplett on a journey through deep time. Explore the mind-blowing 4.6 billion year story of Planet Earth as we walk 4.6 kilometres at Roseisle. As we stride through the aeons\, every millimetre will represent 1000 years in the astonishing saga or life on our home planet. Hear tales of the rise of life\, mass extinctions\, the evolution of countless organisms and where Homo sapiens fits into it all! We will also talk about the flora\, fauna and… \nJoin naturalist Dan Puplett on a journey through deep time. \nExplore the mind-blowing 4.6 billion year story of Planet Earth as we walk 4.6 kilometres at Roseisle. As we stride through the aeons\, every millimetre will represent 1000 years in the astonishing saga or life on our home planet. \nHear tales of the rise of life\, mass extinctions\, the evolution of countless organisms and where Homo sapiens fits into it all! We will also talk about the flora\, fauna and fungi we see on the way\, and their place in Earth’s story.
URL:https://islabankhouse.com/event/deep-time-walk-roseisle-forrest
CATEGORIES:Cultural Festival,Nature & Environment,Science
END:VEVENT
BEGIN:VEVENT
DTSTART;TZID=UTC:20230909T103000
DTEND;TZID=UTC:20230909T150000
DTSTAMP:20260419T152443
CREATED:20230623T220730Z
LAST-MODIFIED:20230623T221044Z
UID:902-1694255400-1694271600@islabankhouse.com
SUMMARY:Mushrooms for Beginners
DESCRIPTION:Mushrooms for beginners around Loch an Eilan. Get the basics of how to identify families and find some tasty edibles and safe medicinals \nForaging is a super way to get out in nature\, find out what wild foods are on your doorstep while looking after your mental health. Join our experienced instructors to experience a fun day out seeing what you can forage in your local area. The day starts at 10.00am and runs until 3pm. Please bring a packed lunch and drink. Also\, there may be some rough ground to walk over so sturdy boots or shoes are recommended. \nThese days have been kindly supported by Heritage Lottery Fund\, and so all you need to pay is a £10 booking fee to secure your place. \nThis event is for those over the age of 16. \nWe are sorry but we are unable to have dogs attend these event \n\n\n10.30am to 3pm £10 booking fee.\nLoch an Eilan\, Aviemore\, Moray PH22 1QT\nSat 9 September\n\nContact telephone: 01309 690450 Call to check latest times or cancellations.\nBuy tickets HERE
URL:https://islabankhouse.com/event/mushrooms-for-beginners
CATEGORIES:Nature & Environment,Science
END:VEVENT
BEGIN:VEVENT
DTSTART;TZID=UTC:20230722T080000
DTEND;TZID=UTC:20230722T170000
DTSTAMP:20260419T152443
CREATED:20230623T220420Z
LAST-MODIFIED:20230623T220420Z
UID:900-1690012800-1690045200@islabankhouse.com
SUMMARY:Forest and Saltmarsh Foraging
DESCRIPTION:Foraging is a super way to get out in nature\, find out what wild foods are on your doorstep while looking after your mental health. Join our experienced instructors to experience a fun day out seeing what you can forage in your local area. The day starts at 10.00am and runs until 3pm. Please bring a packed lunch and drink. Also\, there may be some rough ground to walk over so sturdy boots or shoes are recommended. \nThese days have been kindly supported by Heritage Lottery Fund\, and so all you need to pay is a £10 booking fee to secure your place. \nThis event is for those over the age of 16. \nWe are sorry but we are unable to have dogs attend these events.\n\n10.30am to 3pm £10 booking fee\nCulbin Forest\, Unnamed Rd\, Kintessack\, Forres\, Moray IV36 2TG\nSat 22 July\n\nGet your ticket HERE
URL:https://islabankhouse.com/event/forest-and-saltmarsh-foraging
CATEGORIES:Nature & Environment,Science
END:VEVENT
END:VCALENDAR