BEGIN:VCALENDAR
VERSION:2.0
PRODID:-//Isla Bank House - ECPv6.15.20//NONSGML v1.0//EN
CALSCALE:GREGORIAN
METHOD:PUBLISH
X-WR-CALNAME:Isla Bank House
X-ORIGINAL-URL:https://islabankhouse.com
X-WR-CALDESC:Events for Isla Bank House
REFRESH-INTERVAL;VALUE=DURATION:PT1H
X-Robots-Tag:noindex
X-PUBLISHED-TTL:PT1H
BEGIN:VTIMEZONE
TZID:UTC
BEGIN:STANDARD
TZOFFSETFROM:+0000
TZOFFSETTO:+0000
TZNAME:UTC
DTSTART:20220101T000000
END:STANDARD
END:VTIMEZONE
BEGIN:VEVENT
DTSTART;TZID=UTC:20230523T110000
DTEND;TZID=UTC:20230523T123000
DTSTAMP:20260423T110527
CREATED:20230522T213434Z
LAST-MODIFIED:20230522T213434Z
UID:761-1684839600-1684845000@islabankhouse.com
SUMMARY:Heritage Ranger Walk: Drumin Castle
DESCRIPTION:Join us for a walk around Moray’s earliest surviving tower house reputed to have been built for Scotland’s vilest man- Alexander Stewart\, the Wolf of Badenoch. Drumin Castle is an impressive medieval fortification standing on a commanding bluff overlooking the confluence of the River Livet and the River Avon. Once we get to the castle\, you’ll learn a bit about the architecture\, history\, and the notorious Wolf\, whose evil deeds continue to cast a long shadow in Moray’s history. \n“Cathedral and Toun \nWyld wrath did engulf \nLone Lochindorb Castle \nThe lair of the Wolf” \nThis castle has recently reopened after masonry repairs. Access to the first floor is once again possible via a narrow\, stone staircase. `Sensible footwear is recommended. \nPlease park at the The Drumin Castle car park. This short circular walk will start from the Drumin Castle sign in the car park. Access is by foot along a pedestrian trail and will return by a set of steps. Please dress appropriately for changeable weather. \nToilets are not available on site. \nChildren are very welcome to attend. \nWell behaved dogs are welcome. \nFunded by Foundation Scotland from the Dorenell Wind Farm Community Benefit Fund. \nFree to attend. \nLocation: Drumin Castle Drumin Castle car park Ballindalloch AB37 9AN
URL:https://islabankhouse.com/event/heritage-ranger-walk-drumin-castle
CATEGORIES:Nature & Environment
ATTACH;FMTTYPE=image/jpeg:https://islabankhouse.com/wp-content/uploads/2023/05/05-23-DruminCastleWalk.jpeg
END:VEVENT
BEGIN:VEVENT
DTSTART;TZID=UTC:20230516T110000
DTEND;TZID=UTC:20230516T130000
DTSTAMP:20260423T110527
CREATED:20230512T161334Z
LAST-MODIFIED:20230512T161334Z
UID:709-1684234800-1684242000@islabankhouse.com
SUMMARY:Station to Station on the Speyside Way
DESCRIPTION:Join us for a walk along a portion of the Speyside Way from Cragganmore to Blacksboat Station. \nWhisky enthusiasts will delight in the popular walking trail the Speyside Way. Cragganmore was the first distillery in Scotland to have its site selected and be built specifically to take advantage of its proximity to the Strathspey Railway. This walk follows the route of the old railway from Cragganmore station to Blacksboat Station and back again.
URL:https://islabankhouse.com/event/station-to-station-on-the-speyside-way
CATEGORIES:Nature & Environment
ATTACH;FMTTYPE=image/jpeg:https://islabankhouse.com/wp-content/uploads/2023/05/05-16-SpeysideWalk.jpeg
END:VEVENT
END:VCALENDAR